BEGIN:VCALENDAR
VERSION:2.0
PRODID:https://www.coesia.com
X-PUBLISHED-TTL:P1W
BEGIN:VEVENT
UID:69ea1c62d30cb
DTSTART;VALUE=DATE:20180315
SEQUENCE:0
TRANSP:OPAQUE
DTEND;VALUE=DATE:20180319
URL:https://www.coesia.com/en/exhibitions/cosmoprof-and-cosmopack-bologna
LOCATION:Bologna\, Italy 
SUMMARY:Cosmoprof and Cosmopack Bologna
CLASS:PUBLIC
X-ALT-DESC;FMTTYPE=text/html:<p>Cosmopack&nbsp\;is&nbsp\;Cosmoprof Worldwid
 e Bologna’s “show within the show” and it’s&nbsp\;the leading inte
 rnational event focused on&nbsp\;packaging design\,&nbsp\;contract&nbsp\;m
 anufacturing\,&nbsp\;raw materials\,&nbsp\;machinery&nbsp\;and all&nbsp\;s
 ervices&nbsp\;for the&nbsp\;cosmetic&nbsp\;industry.</p>\n\n<p>The preferr
 ed choice for make-up brands and contract manufacturers\, Citus Kalix will
  present its three technologies of first class packaging. On the booth\, C
 RL20 lipstick moulding machine\, KX603 tube filling machine and KP600 cart
 oning machine will be showcased.</p>\n\n<p>During the Cosmopack 2018 exhib
 ition Emmeci will be at the visitors’ disposal to give information about
  its portfolio of automatic solutions for the production of high-quality r
 igid cardboard boxes and to show the high-end products these machines can 
 realise. Emmeci offer actually includes the state-of-the-art of technology
  for the production of ‘premium packaging’ for different sectors of th
 e market: accessories/fashion\, cosmetics and perfumery\; chocolate and co
 nfectionery\; wines and liquors\; sparkling wines and champagne\; electron
 ics and multimedia\; jewellery and watches\; pharmaceutical\; crystal ware
  and home accessories\; games.</p>\n\n<p><a href=\"mailto:sales@citus-kali
 x.fr\">Citus Kalix</a> and <a href=\"mailto:info@emmeci.it\">Emmeci</a> te
 ams are waiting for you also at <a href=\"http://www.cosmoprof.com/\" targ
 et=\"_blank\" title=\"Cosmoprof 2018\">Cosmoprof</a>&nbsp\;– book your m
 eeting now!</p>\n\, coesia_editor_manager
X-MICROSOFT-CDO-ALLDAYEVENT:TRUE
DTSTAMP:20260423T151930Z
END:VEVENT
END:VCALENDAR