BEGIN:VCALENDAR
VERSION:2.0
PRODID:https://www.coesia.com
X-PUBLISHED-TTL:P1W
BEGIN:VEVENT
UID:69ea3a1a56ee9
DTSTART;VALUE=DATE:20180327
SEQUENCE:0
TRANSP:OPAQUE
DTEND;VALUE=DATE:20180331
URL:https://www.coesia.com/en/exhibitions/industrie
LOCATION:Paris\, France 
SUMMARY:Industrie
CLASS:PUBLIC
X-ALT-DESC;FMTTYPE=text/html:<p>FlexLink will be present at Industrie. For 
 more information <a href=\"http://www.industrie-expo.com/\" target=\"_blan
 k\">click here</a></p>\n\, coesia_editor_manager
X-MICROSOFT-CDO-ALLDAYEVENT:TRUE
DTSTAMP:20260423T172618Z
END:VEVENT
END:VCALENDAR