BEGIN:VCALENDAR
VERSION:2.0
PRODID:https://www.coesia.com
X-PUBLISHED-TTL:P1W
BEGIN:VEVENT
UID:69ea02e833885
DTSTART;VALUE=DATE:20180227
SEQUENCE:0
TRANSP:OPAQUE
DTEND;VALUE=DATE:20180302
URL:https://www.coesia.com/en/exhibitions/apex
LOCATION:San Diego\, USA
SUMMARY:Apex
CLASS:PUBLIC
X-ALT-DESC;FMTTYPE=text/html:<p>FlexLink will be present at Apex. For more 
 information <a href=\"http://www.ipcapexexpo.org/html/default.htm\" target
 =\"_blank\">click here</a></p>\n\, coesia_editor_manager
X-MICROSOFT-CDO-ALLDAYEVENT:TRUE
DTSTAMP:20260423T133048Z
END:VEVENT
END:VCALENDAR