BEGIN:VCALENDAR
VERSION:2.0
PRODID:https://www.coesia.com
X-PUBLISHED-TTL:P1W
BEGIN:VEVENT
UID:69e9d5b15e04c
DTSTART;VALUE=DATE:20180208
SEQUENCE:0
TRANSP:OPAQUE
DTEND;VALUE=DATE:20180211
URL:https://www.coesia.com/en/exhibitions/asia-pharma-expo
LOCATION:Dhaka\, Bangladesh
SUMMARY:Asia Pharma Expo
CLASS:PUBLIC
X-ALT-DESC;FMTTYPE=text/html:<p>GF will be partecipating to Asia Pharma Exp
 o from 8th to 10th February 2018 in Dhaka. <a href=\"http://asiapharma.org
 /ape/index.php\" target=\"_blank\">Click here</a></p>\n\, coesia_editor_ma
 nager
X-MICROSOFT-CDO-ALLDAYEVENT:TRUE
DTSTAMP:20260423T101753Z
END:VEVENT
END:VCALENDAR