BEGIN:VCALENDAR
VERSION:2.0
PRODID:https://www.coesia.com
X-PUBLISHED-TTL:P1W
BEGIN:VEVENT
UID:69e9be718f57b
DTSTART;VALUE=DATE:20180207
SEQUENCE:0
TRANSP:OPAQUE
DTEND;VALUE=DATE:20180209
URL:https://www.coesia.com/en/exhibitions/pharmapack-3
LOCATION:Paris\, France
SUMMARY:Pharmapack
CLASS:PUBLIC
X-ALT-DESC;FMTTYPE=text/html:<p>GF and Hapa will be partecipating to Pharma
 pack from 7th to 8th February 2018 in Paris.</p>\n\n<p>For more informatio
 n <a href=\"https://www.pharmapackeurope.com/\" target=\"_blank\">click he
 re</a></p>\n\, coesia_editor_manager
X-MICROSOFT-CDO-ALLDAYEVENT:TRUE
DTSTAMP:20260423T083841Z
END:VEVENT
END:VCALENDAR