BEGIN:VCALENDAR
VERSION:2.0
PRODID:https://www.coesia.com
X-PUBLISHED-TTL:P1W
BEGIN:VEVENT
UID:69e8eb3875f0e
DTSTART;VALUE=DATE:20170307
SEQUENCE:0
TRANSP:OPAQUE
DTEND;VALUE=DATE:20170310
URL:https://www.coesia.com/it/fiere/cfia-rennes
LOCATION:Rennes\, France
SUMMARY:CFIA Rennes
CLASS:PUBLIC
X-ALT-DESC;FMTTYPE=text/html:<p>FLEXLINK parteciperà a CFIA 2017&nbsp\; (P
 adiglione 3/Stand B22-C21)\, fiera evento europea\, dedicata al settore de
 lla lavorazione dei generi alimentari. L'esposizione si svolgerà al Parc 
 Expo Rennes Aéroport a Rennes\, in Francia\, dal 7 al 9 marzo.</p>\n\n<p>
 FlexLink presenterà le sue ultime novità nell'automazione smart factory:
 </p>\n\n<p>- il sistema di convogliatori WLX: un nastro modulare in acciai
 o inossidabile sviluppato per la produzione alimentare. Il sistema è conf
 orme alle linee guida EHEDG e 3-A per i macchinari alimentari. È facile d
 a pulire e sicuro per gli operatori.<br />\n- l'unità per la pallettizzaz
 ione standardizzata con robot collaborativo. Questa soluzione rende le ope
 razioni di fine linea più semplici e flessibili: si installa facilmente s
 enza bisogno di un programmatore di robot e i layer di pallettizazione pos
 sono essere calibrati rapidamente tramite l'app FlexLink Layer.</p>\n\n<p>
 Per maggiori informazioni <a href=\"http://cfiaexpo.com/?lang=en\" target=
 \"_blank\">clicca qui</a></p>\n\, coesia_editor_manager
X-MICROSOFT-CDO-ALLDAYEVENT:TRUE
DTSTAMP:20260422T173728Z
END:VEVENT
END:VCALENDAR