BEGIN:VCALENDAR
VERSION:2.0
PRODID:https://www.coesia.com
X-PUBLISHED-TTL:P1W
BEGIN:VEVENT
UID:69e8fec5cb924
DTSTART;VALUE=DATE:20170307
SEQUENCE:0
TRANSP:OPAQUE
DTEND;VALUE=DATE:20170310
URL:https://www.coesia.com/en/exhibitions/propak-east-africa
LOCATION:Nairobi\, Kenya
SUMMARY:ProPak East Africa
CLASS:PUBLIC
X-ALT-DESC;FMTTYPE=text/html:<p>VOLPAK will take part in Pro Pak East Afric
 a 2017 and will show its latest innovations in Horizontal Form Fill Seal M
 achines.The Pro Pak East Africa show\, 7th-9th of March 2017\, will take p
 lace at the Kenyatta International Conference Centre\, Kenya.The leading t
 radeshow in East Africa\, Pro Pak\, is an unmissable annual event if you w
 ant to make business in East Africa and is specialized in 4 different indu
 stries: Packaging\, Food processing\, Plastic and Printing.</p>\n\n<p>For 
 more information <a href=\"http://www.propakeastafrica.com/\" target=\"_bl
 ank\">click here</a></p>\n\, coesia_editor_manager
X-MICROSOFT-CDO-ALLDAYEVENT:TRUE
DTSTAMP:20260422T190053Z
END:VEVENT
END:VCALENDAR