BEGIN:VCALENDAR
VERSION:2.0
PRODID:https://www.coesia.com
X-PUBLISHED-TTL:P1W
BEGIN:VEVENT
UID:69e8ebbf27de0
DTSTART;VALUE=DATE:20170227
SEQUENCE:0
TRANSP:OPAQUE
DTEND;VALUE=DATE:20170302
URL:https://www.coesia.com/en/exhibitions/pack-expo-east-3
LOCATION:Philadelphia\, PA\, USA
SUMMARY:PACK EXPO East
CLASS:PUBLIC
X-ALT-DESC;FMTTYPE=text/html:<p>FLEXLINK is showcasing their standardized p
 alletizing cell and WLX conveyors at Pack Expo East. Our Standardized Pall
 etizing Cell is the perfect way to speed up your manufacturing line. Hygie
 nic and 3-A qualified - FlexLink's WLX conveyors are perfect for your food
  safety needs. Don't miss our presentation on the Innovation Stage to hear
  about the importance of a hygienic conveyor design.</p>\n\n<p>For more in
 formation <a href=\"http://www.packexpoeast.com/\" target=\"_blank\">click
  here</a></p>\n\, coesia_editor_manager
X-MICROSOFT-CDO-ALLDAYEVENT:TRUE
DTSTAMP:20260422T173943Z
END:VEVENT
END:VCALENDAR