BEGIN:VCALENDAR
VERSION:2.0
PRODID:https://www.coesia.com
X-PUBLISHED-TTL:P1W
BEGIN:VEVENT
UID:69e8ff99e231a
DTSTART;VALUE=DATE:20170207
SEQUENCE:0
TRANSP:OPAQUE
DTEND;VALUE=DATE:20170210
URL:https://www.coesia.com/en/exhibitions/atx-west
LOCATION:Anaheim\, CA\, USA
SUMMARY:ATX West
CLASS:PUBLIC
X-ALT-DESC;FMTTYPE=text/html:<p>In February\, FLEXLINK is showcasing their 
 standardized palletizing cell and WLX conveyors at ATX West\, North Americ
 a's largest annual event for automation technology.&nbsp\; Our Standardize
 d Palletizing Cell is the perfect way to speed up your manufacturing line.
  Hygienic and 3-A qualified - FlexLink's WLX conveyors are perfect for you
 r food safety needs.</p>\n\n<p>For more information <a href=\"http://atxwe
 st.designnews.com/\" target=\"_blank\">click here</a></p>\n\, coesia_edito
 r_manager
X-MICROSOFT-CDO-ALLDAYEVENT:TRUE
DTSTAMP:20260422T190425Z
END:VEVENT
END:VCALENDAR