BEGIN:VCALENDAR
VERSION:2.0
PRODID:https://www.coesia.com
X-PUBLISHED-TTL:P1W
BEGIN:VEVENT
UID:69e8ecb25bae2
DTSTART;VALUE=DATE:20170204
SEQUENCE:0
TRANSP:OPAQUE
DTEND;VALUE=DATE:20170209
URL:https://www.coesia.com/en/exhibitions/printpack-india
LOCATION:Nuova Delhi\, India
SUMMARY:Printpack India
CLASS:PUBLIC
X-ALT-DESC;FMTTYPE=text/html:<p>Coesia Group Company EMMECI&nbsp\; will tak
 e part in PrintPack 2017\, the biggest exhibition dedicated to printing an
 d packaging machinery taking place in Noida\, New Delhi area from 4th to 8
 th February.</p>\n\n<p>EMMECI will be present at Hall 10 booth C44.</p>\n\
 n<p>With more than 1200 machines installed worldwide\, EMMECI is the leade
 r in the manufacturing of fully automatic equipment to produce rigid premi
 um set-up boxes for luxury products.</p>\n\n<p>At PrintPack EMMECI will sh
 are information on its technology based on high level performances\, relia
 bility and accuracy.</p>\n\n<p>For more information <a href=\"http://www.p
 rintpackipama.com/\" target=\"_blank\">click here</a></p>\n\, coesia_edito
 r_manager
X-MICROSOFT-CDO-ALLDAYEVENT:TRUE
DTSTAMP:20260422T174346Z
END:VEVENT
END:VCALENDAR