BEGIN:VCALENDAR
VERSION:2.0
PRODID:https://www.coesia.com
X-PUBLISHED-TTL:P1W
BEGIN:VEVENT
UID:69e8ff27e699a
DTSTART;VALUE=DATE:20170201
SEQUENCE:0
TRANSP:OPAQUE
DTEND;VALUE=DATE:20170203
URL:https://www.coesia.com/en/exhibitions/pharmapack-4
LOCATION:Paris\, France
SUMMARY:Pharmapack
CLASS:PUBLIC
X-ALT-DESC;FMTTYPE=text/html:<p>Absolvententag Zurich University of Applied
  Sciences’s (ZHAW)</p>\n\n<p>HapaMobile will be at ZHAW’s career day M
 arch 2nd. The event\, the largest in Switzerland for the schools of applie
 d sciences\, takes place at Eulachhallen in Winterthur. Onboard the HapaMo
 bile will be a 230 Hybrid\, Hapa’s bestselling UV digital / UV flexo pri
 nting system for web-fed materials. The Hybrid will showcase 2-color print
 ing on aluminium. Hapa\, a member of Coesia\, is the global leader of pack
 aging printing solutions for the pharmaceutical industry. More than 10\,00
 0 machines installed worldwide integrate Swiss performance for lean and ag
 ile production. Hapa solutions cut material and process waste\, and reduce
  packaging-material inventory up to 80%.</p>\n\n<p>For more information <a
  href=\"http://www.pharmapackeurope.com/\" target=\"_blank\">click here</a
 ></p>\n\, coesia_editor_manager
X-MICROSOFT-CDO-ALLDAYEVENT:TRUE
DTSTAMP:20260422T190231Z
END:VEVENT
END:VCALENDAR