BEGIN:VCALENDAR
VERSION:2.0
PRODID:https://www.coesia.com
X-PUBLISHED-TTL:P1W
BEGIN:VEVENT
UID:69e973aada01d
DTSTART;VALUE=DATE:20171129
SEQUENCE:0
TRANSP:OPAQUE
DTEND;VALUE=DATE:20171203
URL:https://www.coesia.com/en/exhibitions/automechanica-shanghai
LOCATION:Shanghai\, China
SUMMARY:Automechanica Shanghai
CLASS:PUBLIC
X-ALT-DESC;FMTTYPE=text/html:<p>FlexLink&nbsp\;will be present at Automecha
 nica Shanghai.</p>\n\n<p>For more information&nbsp\;<a href=\"http://autom
 echanika-shanghai.hk.messefrankfurt.com/shanghai/en/visitors/welcome.html\
 " target=\"_blank\">click here</a></p>\n\, coesia_editor_manager
X-MICROSOFT-CDO-ALLDAYEVENT:TRUE
DTSTAMP:20260423T031938Z
END:VEVENT
END:VCALENDAR