BEGIN:VCALENDAR
VERSION:2.0
PRODID:https://www.coesia.com
X-PUBLISHED-TTL:P1W
BEGIN:VEVENT
UID:69ea6ae7f1db1
DTSTART;VALUE=DATE:20171128
SEQUENCE:0
TRANSP:OPAQUE
DTEND;VALUE=DATE:20171201
URL:https://www.coesia.com/en/exhibitions/pmec
LOCATION:Bombay\, India
SUMMARY:P-mec
CLASS:PUBLIC
X-ALT-DESC;FMTTYPE=text/html:<p>Norden\, Citus kalix\, Flexlink\, Hapa\, GF
  will be present at P-mec.</p>\n\n<p>For more information&nbsp\;<a href=\"
 http://www.cphi.com/p-mec-india/\" target=\"_blank\">click here</a></p>\n\
 , coesia_editor_manager
X-MICROSOFT-CDO-ALLDAYEVENT:TRUE
DTSTAMP:20260423T205431Z
END:VEVENT
END:VCALENDAR