BEGIN:VCALENDAR
VERSION:2.0
PRODID:https://www.coesia.com
X-PUBLISHED-TTL:P1W
BEGIN:VEVENT
UID:69eb29c4af6cd
DTSTART;VALUE=DATE:20171121
SEQUENCE:0
TRANSP:OPAQUE
DTEND;VALUE=DATE:20171124
URL:https://www.coesia.com/en/exhibitions/europack
LOCATION:Lyon\, France
SUMMARY:Europack
CLASS:PUBLIC
X-ALT-DESC;FMTTYPE=text/html:<p>Flexlink will be present at Europack.</p>\n
 \n<p>For more information&nbsp\;<a href=\"http://www.europack-euromanut-cf
 ia.com/fr\" target=\"_blank\">click here</a></p>\n\, coesia_editor_manager
X-MICROSOFT-CDO-ALLDAYEVENT:TRUE
DTSTAMP:20260424T102852Z
END:VEVENT
END:VCALENDAR