BEGIN:VCALENDAR
VERSION:2.0
PRODID:https://www.coesia.com
X-PUBLISHED-TTL:P1W
BEGIN:VEVENT
UID:69e95e7215654
DTSTART;VALUE=DATE:20171114
SEQUENCE:0
TRANSP:OPAQUE
DTEND;VALUE=DATE:20171117
URL:https://www.coesia.com/en/exhibitions/inprint
LOCATION:Munich\, Germany
SUMMARY:INPRINT
CLASS:PUBLIC
X-ALT-DESC;FMTTYPE=text/html:<p>Hapa will be present at INPRINT.</p>\n\n<p>
 For more information&nbsp\;<a href=\"http://www.inprintshow.com/germany/en
 glish/\" target=\"_blank\">click here</a></p>\n\, coesia_editor_manager
X-MICROSOFT-CDO-ALLDAYEVENT:TRUE
DTSTAMP:20260423T014906Z
END:VEVENT
END:VCALENDAR