BEGIN:VCALENDAR
VERSION:2.0
PRODID:https://www.coesia.com
X-PUBLISHED-TTL:P1W
BEGIN:VEVENT
UID:69e90f89ee8ef
DTSTART;VALUE=DATE:20171108
SEQUENCE:0
TRANSP:OPAQUE
DTEND;VALUE=DATE:20171112
URL:https://www.coesia.com/en/exhibitions/pack-expo-bucharest
LOCATION:Bucharest\, Romania
SUMMARY:Pack Expo Bucharest
CLASS:PUBLIC
X-ALT-DESC;FMTTYPE=text/html:<p>Flexlink will be present at Pack Expo Bucha
 rest.</p>\n\n<p>For more information&nbsp\;<a href=\"http://www.tradefaird
 ates.com/Pack-Expo-M1638/Bucharest.html\" target=\"_blank\">click here</a>
 </p>\n\, coesia_editor_manager
X-MICROSOFT-CDO-ALLDAYEVENT:TRUE
DTSTAMP:20260422T201225Z
END:VEVENT
END:VCALENDAR