BEGIN:VCALENDAR
VERSION:2.0
PRODID:https://www.coesia.com
X-PUBLISHED-TTL:P1W
BEGIN:VEVENT
UID:69e8ffe210e87
DTSTART;VALUE=DATE:20171101
SEQUENCE:0
TRANSP:OPAQUE
DTEND;VALUE=DATE:20260423
URL:https://www.coesia.com/en/exhibitions/cipm0
LOCATION:Changsha\, Hunan\, China
SUMMARY:CIPM
CLASS:PUBLIC
X-ALT-DESC;FMTTYPE=text/html:<p>Norden\, Hapa\, GF&nbsp\;will be present at
  CIPM.</p>\n\n<p>For more information&nbsp\;<a href=\"http://www.cipm-expo
 .com/w/index_eng.php\" target=\"_blank\">click here</a></p>\n\, coesia_edi
 tor_manager
X-MICROSOFT-CDO-ALLDAYEVENT:TRUE
DTSTAMP:20260422T190538Z
END:VEVENT
END:VCALENDAR