BEGIN:VCALENDAR
VERSION:2.0
PRODID:https://www.coesia.com
X-PUBLISHED-TTL:P1W
BEGIN:VEVENT
UID:69e8e67ef1221
DTSTART;VALUE=DATE:20171024
SEQUENCE:0
TRANSP:OPAQUE
DTEND;VALUE=DATE:20171027
URL:https://www.coesia.com/en/exhibitions/the-assembly-show-3
LOCATION:Rosemont\, USA
SUMMARY:The Assembly Show
CLASS:PUBLIC
X-ALT-DESC;FMTTYPE=text/html:<p>FlexLink will be present at The Assembly Sh
 ow.</p>\n\n<p>For more information&nbsp\;<a href=\"http://www.theassemblys
 how.com/\" target=\"_blank\">click here</a></p>\n\, coesia_editor_manager
X-MICROSOFT-CDO-ALLDAYEVENT:TRUE
DTSTAMP:20260422T171718Z
END:VEVENT
END:VCALENDAR