BEGIN:VCALENDAR
VERSION:2.0
PRODID:https://www.coesia.com
X-PUBLISHED-TTL:P1W
BEGIN:VEVENT
UID:69e8fec5cb923
DTSTART;VALUE=DATE:20171018
SEQUENCE:0
TRANSP:OPAQUE
DTEND;VALUE=DATE:20171021
URL:https://www.coesia.com/en/exhibitions/automotive-hungary-3
LOCATION:Budapest\, Hungary
SUMMARY:Automotive Hungary
CLASS:PUBLIC
X-ALT-DESC;FMTTYPE=text/html:<p>FlexLink&nbsp\;will be present at Automotiv
 e Hungary.</p>\n\n<p>For more information&nbsp\;<a href=\"http://automotiv
 expo.hu/en\" target=\"_blank\">click here</a></p>\n\, coesia_editor_manage
 r
X-MICROSOFT-CDO-ALLDAYEVENT:TRUE
DTSTAMP:20260422T190053Z
END:VEVENT
END:VCALENDAR