BEGIN:VCALENDAR
VERSION:2.0
PRODID:https://www.coesia.com
X-PUBLISHED-TTL:P1W
BEGIN:VEVENT
UID:69e95c6eb68ce
DTSTART;VALUE=DATE:20171009
SEQUENCE:0
TRANSP:OPAQUE
DTEND;VALUE=DATE:20171014
URL:https://www.coesia.com/en/exhibitions/msv
LOCATION:Brunn\, Chez Republic
SUMMARY:MSV
CLASS:PUBLIC
X-ALT-DESC;FMTTYPE=text/html:<p>FlexLink&nbsp\;will be present at MSV.</p>\
 n\n<p>For more information&nbsp\;<a href=\"http://www.bvv.cz/en/msv/\" tar
 get=\"_blank\">click here</a></p>\n\, coesia_editor_manager
X-MICROSOFT-CDO-ALLDAYEVENT:TRUE
DTSTAMP:20260423T014030Z
END:VEVENT
END:VCALENDAR