BEGIN:VCALENDAR
VERSION:2.0
PRODID:https://www.coesia.com
X-PUBLISHED-TTL:P1W
BEGIN:VEVENT
UID:69e90068adfc1
DTSTART;VALUE=DATE:20170925
SEQUENCE:0
TRANSP:OPAQUE
DTEND;VALUE=DATE:20170929
URL:https://www.coesia.com/en/exhibitions/labelexpo
LOCATION:Bruxelles\, Belgium
SUMMARY:LabelExpo
CLASS:PUBLIC
X-ALT-DESC;FMTTYPE=text/html:<p>Hapa will be present at LabelExpo.</p>\n\n<
 p>For more information&nbsp\;<a href=\"http://www.labelexpo-europe.com\" t
 arget=\"_blank\">click here</a></p>\n\, coesia_editor_manager
X-MICROSOFT-CDO-ALLDAYEVENT:TRUE
DTSTAMP:20260422T190752Z
END:VEVENT
END:VCALENDAR