BEGIN:VCALENDAR
VERSION:2.0
PRODID:https://www.coesia.com
X-PUBLISHED-TTL:P1W
BEGIN:VEVENT
UID:69eb2aa4a032d
DTSTART;VALUE=DATE:20170925
SEQUENCE:0
TRANSP:OPAQUE
DTEND;VALUE=DATE:20260425
URL:https://www.coesia.com/en/exhibitions/pack-expo-las-vegas-4
LOCATION:Las Vegas\, USA
SUMMARY:Pack Expo Las Vegas
CLASS:PUBLIC
X-ALT-DESC;FMTTYPE=text/html:<p>Acma\, Volpak\, R. A Jones\, Norden\, Citus
  Kalix\, Flexlink\, Hapa will be present at Pack Expo Las Vegas.</p>\n\n<p
 >For more information&nbsp\;<a href=\"https://www.packexpolasvegas.com/\" 
 target=\"_blank\">click here</a></p>\n\, coesia_editor_manager
X-MICROSOFT-CDO-ALLDAYEVENT:TRUE
DTSTAMP:20260424T103236Z
END:VEVENT
END:VCALENDAR