BEGIN:VCALENDAR
VERSION:2.0
PRODID:https://www.coesia.com
X-PUBLISHED-TTL:P1W
BEGIN:VEVENT
UID:69e8eb5876724
DTSTART;VALUE=DATE:20170919
SEQUENCE:0
TRANSP:OPAQUE
DTEND;VALUE=DATE:20170921
URL:https://www.coesia.com/en/exhibitions/smta-international
LOCATION:Rosemont\, USA
SUMMARY:SMTA International
CLASS:PUBLIC
X-ALT-DESC;FMTTYPE=text/html:<p>Flexlink will be present at SMTA Internatio
 nal.</p>\n\n<p>For more information&nbsp\;<a href=\"https://www.smta.org/s
 mtai/\" target=\"_blank\">click here</a></p>\n\, coesia_editor_manager
X-MICROSOFT-CDO-ALLDAYEVENT:TRUE
DTSTAMP:20260422T173800Z
END:VEVENT
END:VCALENDAR