BEGIN:VCALENDAR
VERSION:2.0
PRODID:https://www.coesia.com
X-PUBLISHED-TTL:P1W
BEGIN:VEVENT
UID:69e900b5d9302
DTSTART;VALUE=DATE:20170915
SEQUENCE:0
TRANSP:OPAQUE
DTEND;VALUE=DATE:20170917
URL:https://www.coesia.com/en/exhibitions/packaging-symposium
LOCATION:Kempten\, Germany
SUMMARY:Packaging Symposium
CLASS:PUBLIC
X-ALT-DESC;FMTTYPE=text/html:<p>Flexlink&nbsp\;will be present at Packaging
  Symposium.</p>\n\n<p>For more information&nbsp\;<a href=\"http://www.zlv.
 de/de/UserFiles/Media/vps-2016-programm.pdf\" target=\"_blank\">click here
 </a></p>\n\, coesia_editor_manager
X-MICROSOFT-CDO-ALLDAYEVENT:TRUE
DTSTAMP:20260422T190909Z
END:VEVENT
END:VCALENDAR