BEGIN:VCALENDAR
VERSION:2.0
PRODID:https://www.coesia.com
X-PUBLISHED-TTL:P1W
BEGIN:VEVENT
UID:69e8ff0dde3ab
DTSTART;VALUE=DATE:20170914
SEQUENCE:0
TRANSP:OPAQUE
DTEND;VALUE=DATE:20170917
URL:https://www.coesia.com/en/exhibitions/vision-expo-west-2
LOCATION:Las Vegas\, USA
SUMMARY:Vision Expo West
CLASS:PUBLIC
X-ALT-DESC;FMTTYPE=text/html:<p>Flexlink&nbsp\;will be present at Vision Ex
 po West.</p>\n\n<p>For more information&nbsp\;<a href=\"http://west.vision
 expo.com/\" target=\"_blank\">click here</a></p>\n\, coesia_editor_manager
X-MICROSOFT-CDO-ALLDAYEVENT:TRUE
DTSTAMP:20260422T190205Z
END:VEVENT
END:VCALENDAR