BEGIN:VCALENDAR
VERSION:2.0
PRODID:https://www.coesia.com
X-PUBLISHED-TTL:P1W
BEGIN:VEVENT
UID:69e8e68ed06e5
DTSTART;VALUE=DATE:20170911
SEQUENCE:0
TRANSP:OPAQUE
DTEND;VALUE=DATE:20170916
URL:https://www.coesia.com/en/exhibitions/drinktec
LOCATION:Munich\, Germany
SUMMARY:DrinkTec
CLASS:PUBLIC
X-ALT-DESC;FMTTYPE=text/html:<p>Hapa&nbsp\;will be present at DrinkTec.</p>
 \n\n<p>For more information&nbsp\;<a href=\"http://www.drinktec.com/\" tar
 get=\"_blank\">click here</a></p>\n\, coesia_editor_manager
X-MICROSOFT-CDO-ALLDAYEVENT:TRUE
DTSTAMP:20260422T171734Z
END:VEVENT
END:VCALENDAR