BEGIN:VCALENDAR
VERSION:2.0
PRODID:https://www.coesia.com
X-PUBLISHED-TTL:P1W
BEGIN:VEVENT
UID:69e5348a7cc93
DTSTART;VALUE=DATE:20260324
SEQUENCE:0
TRANSP:OPAQUE
DTEND;VALUE=DATE:20260327
URL:https://www.coesia.com/en/exhibitions/coesia-at-logimat-2026-by-your-si
 de-in-the-new-e-commerce-era
LOCATION:Stuttgart\, Germany
SUMMARY:Coesia at LogiMAT 2026: by your side in the new E-commerce era
CLASS:PUBLIC
X-ALT-DESC;FMTTYPE=text/html:<p>From <strong>March 24 to 26</strong>\, Coes
 ia will take part in <strong>LogiMAT in Stuttgart</strong>\, the leading i
 nternational trade show for intralogistics and process management. At Logi
 MAT 2026\, Coesia strengthens its presence in intralogistics with renewed 
 solutions designed to accelerate the evolution of <strong>E-commerce and f
 ulfillment operations</strong>\, building on its longstanding expertise in
  automation\, packaging technologies\, and sustainable innovation.</p><p>J
 oin us in <strong>Hall 8\, Booth 8C21</strong>\, where you will discover t
 he solutions from our companies <strong>System Digital\, FlexLink</strong>
  and <strong>Emmeci</strong>.</p><p>Coesia’s companies deliver <strong>u
 serfriendly\, futureready technologies</strong> that boost agility\, flexi
 bility\, and operational efficiency. Our systems support the growing deman
 ds of modern logistics\, ensuring adaptability\, performance\, and optimiz
 ed packaging workflows to elevate both customer experience and fulfillment
  effectiveness.</p><h5>New solutions for evolving needs</h5><p>At the boot
 h\, Coesia will showcase two easy-to-use solutions engineered for efficien
 cy\, adaptability\, and data-driven packaging workflows. &nbsp\;<stron
 g>Selecta</strong>\, System Digital new automated bagging system\, will of
 ficially<strong> launch during the show</strong>\, bringing fully automate
 d bag selection\, sealing\, and labeling into a compact\, data drivendrive
 n workflow. &nbsp\;</p><p>System Digital will also introduce <strong>Ele
 va</strong> – a new carton erector that prepares <strong>RSC b
 oxes in multiple sizes</strong> and automatically adjusts <strong>box 
 height to product dimensions</strong>\, reducing void space\, material usa
 ge\, and shipping costs. Together\,<strong> Selecta and Eleva</strong>
  introduce a new generation of smart\, flexible packaging lines for E-
 commerce operations. &nbsp\;</p><p><strong>RC12</strong>\, FlexLink’s co
 llaborative palletizer\, offers safe\, space efficient palletizing thanks 
 to its compact footprint\, intuitive setup\, and side-by-side operation wi
 th warehouse teams.</p><p>Coesia is committed to delivering <strong>smarte
 r\, more innovative</strong>\, and <strong>more sustainable</strong> solut
 ions for E-commerce packaging and fulfillment. With new technologies and a
 n expanding ecosystem of integrated systems\, Coesia continues to support 
 businesses seeking efficiency\, flexibility\, and reliability across their
  end-to-end operations.</p><p><strong>Visit Coesia at LogiMAT 2026</strong
 ><br>24 – 26 March<br>Hall 8 – Booth 8C21<br>Stuttgart Trade Fair Cent
 re – Messepiazza 1\, 70629 Stuttgart\, Germany&nbsp\;</p>\, coesia_edito
 r_manager
X-MICROSOFT-CDO-ALLDAYEVENT:TRUE
DTSTAMP:20260419T220114Z
END:VEVENT
END:VCALENDAR