BEGIN:VCALENDAR
VERSION:2.0
PRODID:https://www.coesia.com
X-PUBLISHED-TTL:P1W
BEGIN:VEVENT
UID:69ea6a917241f
DTSTART;VALUE=DATE:20190326
SEQUENCE:0
TRANSP:OPAQUE
DTEND;VALUE=DATE:20190329
URL:https://www.coesia.com/en/exhibitions/profood-tech-2019
LOCATION:Chicago\, Illinois
SUMMARY:ProFood Tech
CLASS:PUBLIC
X-ALT-DESC;FMTTYPE=text/html:<p>FLEXLINK will be present at ProFood Tech. F
 or more information <a href=\"https://www.profoodtech.com/\">click here</a
 >.</p>\n\, coesia_editor_manager
X-MICROSOFT-CDO-ALLDAYEVENT:TRUE
DTSTAMP:20260423T205305Z
END:VEVENT
END:VCALENDAR