BEGIN:VCALENDAR
VERSION:2.0
PRODID:https://www.coesia.com
X-PUBLISHED-TTL:P1W
BEGIN:VEVENT
UID:69ea6a642c2c2
DTSTART;VALUE=DATE:20190129
SEQUENCE:0
TRANSP:OPAQUE
DTEND;VALUE=DATE:20190201
URL:https://www.coesia.com/en/exhibitions/ipc-apex-2019
LOCATION:San Diego\, California
SUMMARY:IPC APEX EXPO 2019
CLASS:PUBLIC
X-ALT-DESC;FMTTYPE=text/html:<p>FLEXLINK will be present at IPC APEX EXPO 2
 019. For more information <a href=\"http://www.ipcapexexpo.org/html/defaul
 t.htm\">click here</a>.</p>\n\, coesia_editor_manager
X-MICROSOFT-CDO-ALLDAYEVENT:TRUE
DTSTAMP:20260423T205220Z
END:VEVENT
END:VCALENDAR