BEGIN:VCALENDAR
VERSION:2.0
PRODID:https://www.coesia.com
X-PUBLISHED-TTL:P1W
BEGIN:VEVENT
UID:69ea6af0a25f0
DTSTART;VALUE=DATE:20181023
SEQUENCE:0
TRANSP:OPAQUE
DTEND;VALUE=DATE:20181026
URL:https://www.coesia.com/en/exhibitions/the-assembly-show-1
LOCATION:Chicago\, USA
SUMMARY:THE ASSEMBLY SHOW
CLASS:PUBLIC
X-ALT-DESC;FMTTYPE=text/html:<p>FlexLink will be present at THE ASSEMBLY SH
 OW.&nbsp\;For more information&nbsp\;<a href=\"http://www.theassemblyshow.
 com/\">click here.</a></p>\n\, coesia_editor_manager
X-MICROSOFT-CDO-ALLDAYEVENT:TRUE
DTSTAMP:20260423T205440Z
END:VEVENT
END:VCALENDAR