BEGIN:VCALENDAR
VERSION:2.0
PRODID:https://www.coesia.com
X-PUBLISHED-TTL:P1W
BEGIN:VEVENT
UID:69ea6a43d1c0a
DTSTART;VALUE=DATE:20181023
SEQUENCE:0
TRANSP:OPAQUE
DTEND;VALUE=DATE:20181027
URL:https://www.coesia.com/en/exhibitions/scanpack
LOCATION:Gothenburg\, Sweden
SUMMARY:SCANPACK
CLASS:PUBLIC
X-ALT-DESC;FMTTYPE=text/html:<p>NORDEN and&nbsp\;FLEXLINK will be present a
 t SCANPACK.&nbsp\;For more information&nbsp\;<a href=\"https://en.scanpack
 .se/\">click here.</a></p>\n\, coesia_editor_manager
X-MICROSOFT-CDO-ALLDAYEVENT:TRUE
DTSTAMP:20260423T205147Z
END:VEVENT
END:VCALENDAR