BEGIN:VCALENDAR
VERSION:2.0
PRODID:https://www.coesia.com
X-PUBLISHED-TTL:P1W
BEGIN:VEVENT
UID:69ea8148048ae
DTSTART;VALUE=DATE:20181105
SEQUENCE:0
TRANSP:OPAQUE
DTEND;VALUE=DATE:20181107
URL:https://www.coesia.com/en/exhibitions/cipm1
LOCATION:Chongqing\, Cina
SUMMARY:CIPM
CLASS:PUBLIC
X-ALT-DESC;FMTTYPE=text/html:<p>NORDEN&nbsp\;will be present at CIPM. For m
 ore information&nbsp\;<a href=\"http://www.cipm-expo.com/w/show_c_eng.php?
 ID=14\">click here.</a></p>\n\, coesia_editor_manager
X-MICROSOFT-CDO-ALLDAYEVENT:TRUE
DTSTAMP:20260423T223000Z
END:VEVENT
END:VCALENDAR