BEGIN:VCALENDAR
VERSION:2.0
PRODID:https://www.coesia.com
X-PUBLISHED-TTL:P1W
BEGIN:VEVENT
UID:69ea69f5d2d52
DTSTART;VALUE=DATE:20181114
SEQUENCE:0
TRANSP:OPAQUE
DTEND;VALUE=DATE:20181116
URL:https://www.coesia.com/en/exhibitions/atx-montreal
LOCATION:Montreal\, Canada
SUMMARY:ATX MONTREAL
CLASS:PUBLIC
X-ALT-DESC;FMTTYPE=text/html:<p>FlexLink will be present at ATX MONTREAL. F
 or more information&nbsp\;<a href=\"http://admmontreal.com/en/atx\">click 
 here.</a></p>\n\, coesia_editor_manager
X-MICROSOFT-CDO-ALLDAYEVENT:TRUE
DTSTAMP:20260423T205029Z
END:VEVENT
END:VCALENDAR