BEGIN:VCALENDAR
VERSION:2.0
PRODID:https://www.coesia.com
X-PUBLISHED-TTL:P1W
BEGIN:VEVENT
UID:69ea6e81ae6a6
DTSTART;VALUE=DATE:20181126
SEQUENCE:0
TRANSP:OPAQUE
DTEND;VALUE=DATE:20181130
URL:https://www.coesia.com/en/exhibitions/all4pack-salon-de-lemballage
LOCATION:Paris\, France
SUMMARY:ALL4PACK -SALON DE L'EMBALLAGE
CLASS:PUBLIC
X-ALT-DESC;FMTTYPE=text/html:<p>FlexLink will be present at ALL4PACK - SALO
 N DE L'EMBALLAGE. For more information&nbsp\;<a href=\"https://www.all4pac
 k.com/it/imballaggio-e-movimentazione/I-saloni-EMBALLAGE-MANUTENTION-diven
 tano-ALL4PACK-Paris\">click here.</a></p>\n\, coesia_editor_manager
X-MICROSOFT-CDO-ALLDAYEVENT:TRUE
DTSTAMP:20260423T210953Z
END:VEVENT
END:VCALENDAR