BEGIN:VCALENDAR
VERSION:2.0
PRODID:https://www.coesia.com
X-PUBLISHED-TTL:P1W
BEGIN:VEVENT
UID:69ea6a96b87ab
DTSTART;VALUE=DATE:20181010
SEQUENCE:0
TRANSP:OPAQUE
DTEND;VALUE=DATE:20181013
URL:https://www.coesia.com/en/exhibitions/miac-1
LOCATION:Lucca\, Italy
SUMMARY:MIAC
CLASS:PUBLIC
X-ALT-DESC;FMTTYPE=text/html:<p><span style=\"color: rgb(119\, 119\, 119)\;
  text-transform: none\; text-indent: 0px\; letter-spacing: 1px\; font-fami
 ly: Roboto\, sans-serif\; font-size: 18px\; font-style: normal\; font-weig
 ht: 300\; word-spacing: 0px\; float: none\; display: inline !important\; w
 hite-space: normal\; orphans: 2\; widows: 2\; background-color: rgb(255\, 
 255\, 255)\; font-variant-ligatures: normal\; font-variant-caps: normal\; 
 -webkit-text-stroke-width: 0px\; text-decoration-style: initial\; text-dec
 oration-color: initial\;\">FlexLink will be present at MIAC. For more info
 rmation<span>&nbsp\;</span></span><a href=\"https://www.miac.info/en/\" st
 yle=\"outline: 0px\; color: rgb(119\, 119\, 119)\; text-transform: none\; 
 text-indent: 0px\; letter-spacing: 1px\; font-family: Roboto\, sans-serif\
 ; font-size: 18px\; font-style: normal\; font-weight: 400\; text-decoratio
 n: underline\; word-spacing: 0px\; white-space: normal\; orphans: 2\; wido
 ws: 2\; background-color: rgb(255\, 255\, 255)\; font-variant-ligatures: n
 ormal\; font-variant-caps: normal\; -webkit-text-stroke-width: 0px\;\">cli
 ck here.</a></p>\n\, coesia_editor_manager
X-MICROSOFT-CDO-ALLDAYEVENT:TRUE
DTSTAMP:20260423T205310Z
END:VEVENT
END:VCALENDAR