BEGIN:VCALENDAR
VERSION:2.0
PRODID:https://www.coesia.com
X-PUBLISHED-TTL:P1W
BEGIN:VEVENT
UID:69ea69b714515
DTSTART;VALUE=DATE:20181004
SEQUENCE:0
TRANSP:OPAQUE
DTEND;VALUE=DATE:20181006
URL:https://www.coesia.com/en/exhibitions/fea
LOCATION:Dusseldorf
SUMMARY:FEA
CLASS:PUBLIC
X-ALT-DESC;FMTTYPE=text/html:<p><span style=\"font-size: 18px\; -webkit-tex
 t-stroke-width: 0px\;\"><span style=\"color: rgb(119\, 119\, 119)\;\"><spa
 n style=\"text-transform: none\;\"><span style=\"letter-spacing: 1px\;\"><
 span style=\"font-family: Roboto\, sans-serif\;\"><span style=\"font-style
 : normal\;\"><span style=\"font-weight: 300\;\"><span style=\"word-spacing
 : 0px\;\"><span style=\"float: none\;\"><span style=\"display: inline !imp
 ortant\;\"><span style=\"white-space: normal\;\"><span style=\"orphans: 2\
 ;\"><span style=\"widows: 2\;\"><span style=\"background-color: rgb(255\, 
 255\, 255)\;\"><span style=\"font-variant-ligatures: normal\;\"><span styl
 e=\"font-variant-caps: normal\;\"><span style=\"text-decoration-style: ini
 tial\;\"><span style=\"text-decoration-color: initial\;\">R.A Jones&nbsp\;
 will be present at FEA Global Aerosol Events. For more information </span>
 </span></span></span></span></span></span></span></span></span></span></sp
 an></span></span></span></span></span></span><a href=\"http://www.feagloba
 levents.org/\" style=\"outline: 0px\; color: rgb(119\, 119\, 119)\; text-t
 ransform: none\; letter-spacing: 1px\; font-family: Roboto\, sans-serif\; 
 font-size: 18px\; font-style: normal\; font-weight: 400\; text-decoration:
  underline\; word-spacing: 0px\; white-space: normal\; orphans: 2\; widows
 : 2\; background-color: rgb(255\, 255\, 255)\; font-variant-ligatures: nor
 mal\; font-variant-caps: normal\; -webkit-text-stroke-width: 0px\;\">click
  here.</a></p>\n\n<p>&nbsp\;</p>\n\n<p>&nbsp\;</p>\n\, coesia_editor_manag
 er
X-MICROSOFT-CDO-ALLDAYEVENT:TRUE
DTSTAMP:20260423T204927Z
END:VEVENT
END:VCALENDAR