BEGIN:VCALENDAR
VERSION:2.0
PRODID:https://www.coesia.com
X-PUBLISHED-TTL:P1W
BEGIN:VEVENT
UID:69ea698f228e2
DTSTART;VALUE=DATE:20170516
SEQUENCE:0
TRANSP:OPAQUE
DTEND;VALUE=DATE:20170519
URL:https://www.coesia.com/en/exhibitions/atx-canada
LOCATION:Toronto\, Canada
SUMMARY:ATX Canada
CLASS:PUBLIC
X-ALT-DESC;FMTTYPE=text/html:<p>FLEXLINK is showcasing their standardized p
 alletizing cell and WLX conveyors at ATX Canada in February. Our Standardi
 zed Palletizing Cell is the perfect way to speed up your manufacturing lin
 e. Hygienic and 3-A qualified - FlexLink's WLX conveyors are perfect for y
 our food safety needs.</p>\n\n<p>For more information <a href=\"http://atx
 canada.designnews.com/\" target=\"_blank\">click here</a></p>\n\, coesia_e
 ditor_manager
X-MICROSOFT-CDO-ALLDAYEVENT:TRUE
DTSTAMP:20260423T204847Z
END:VEVENT
END:VCALENDAR