BEGIN:VCALENDAR
VERSION:2.0
PRODID:https://www.coesia.com
X-PUBLISHED-TTL:P1W
BEGIN:VEVENT
UID:69e972ddd7212
DTSTART;VALUE=DATE:20170504
SEQUENCE:0
TRANSP:OPAQUE
DTEND;VALUE=DATE:20170511
URL:https://www.coesia.com/en/exhibitions/interpack
LOCATION:Dusseldorf\, Germany
SUMMARY:Interpack
CLASS:PUBLIC
X-ALT-DESC;FMTTYPE=text/html:<p><strong>Coesia will be present at Interpack
  2017\, the major packaging fair held in Düsseldorf from May 4th to 10th\
 , 2017. The latest technological innovations in packaging and industrial p
 rocess solutions for Fast Moving Consumer Goods proposed by the Coesia com
 panies will be presented in Hall 6\, Booth E31-D31-E57-D57. Multimedia and
  virtual reality system will support the visitor’s discovery tour of the
  machines and lines in operation. Plenty of space will be dedicated to the
  new frontiers of Customer Service that allow Coesia to better meet the ne
 eds and expectations of customers around the world.</strong></p>\n\n<p><st
 rong>Technology tips</strong></p>\n\n<p>To share knowledge and keep up wit
 h the latest trends in packaging\, Coesia will hold daily seminars: Packag
 ing Design\, O.E.E. (Overall Equipment Effectivess)\, Late Stage Customiza
 tion and Energy Reduction are just a few of the themes that visitors will 
 examine and discuss with our experts.</p>\n\n<p><a href=\"https://www.link
 edin.com/company-beta/1067026/\">Follow us on&nbsp\;Linkedin</a>\, see the
  detailed list of seminars and&nbsp\;<a href=\"https://www.eventbrite.co.u
 k/o/coesia-11388631255\">book a seat</a>!</p>\n\n<p><strong>GF and&nbsp\;E
 MMECI</strong></p>\n\n<p>GF and EMMECI have recently entered Coesia Group 
 and they will participate for the first time at the fair extending Group o
 ffering. Both companies will showcase their solutions for pharmaceutical l
 iquid filling and for luxury packaging sector respectively.</p>\n\n<p><str
 ong>Global Presence</strong></p>\n\n<p>With 89 operating units in 32 count
 ries around the world\, Coesia is in a position to offer a global presence
  to its customers. For Coesia\, being global means offering the opportunit
 y to contact competent\, well-prepared staff on site. At the stand\, visit
 ors from all over the world will be able to meet Coesia people who can sat
 isfy their needs and accompany them locally in the joint development of pr
 ojects.</p>\n\n<p><strong>Visit us at Interpack 2017</strong></p>\n\n<p>Ha
 ll 6\,&nbsp\;<a href=\"http://www.interpack.com/vis/v1/en/exhibitors/inter
 pack2017.2491550?oid=55132&amp\;lang=2\">Booth</a>&nbsp\;D31 D57 E31 E57&n
 bsp\;2000 mq Booth<br />\n11 companies showcasing their solutions<br />\n1
 00 machines live and 4K<br />\nDaily technology tips and multimedia presen
 tations</p>\n\n<p>For more information <a href=\"http://www.interpack.com/
 \" target=\"_blank\">click here</a></p>\n\, coesia_editor_manager
X-MICROSOFT-CDO-ALLDAYEVENT:TRUE
DTSTAMP:20260423T031613Z
END:VEVENT
END:VCALENDAR