BEGIN:VCALENDAR
VERSION:2.0
PRODID:https://www.coesia.com
X-PUBLISHED-TTL:P1W
BEGIN:VEVENT
UID:69eb2bc81e068
DTSTART;VALUE=DATE:20170410
SEQUENCE:0
TRANSP:OPAQUE
DTEND;VALUE=DATE:20170414
URL:https://www.coesia.com/en/exhibitions/djazagro
LOCATION:Algiers\, Algeria
SUMMARY:Djazagro
CLASS:PUBLIC
X-ALT-DESC;FMTTYPE=text/html:<p>IPI and FLEXLINK will take part in DJAZAGRO
  2017 and show the latest within aseptic carton packaging and smart factor
 y automation.</p>\n\n<p>The DJAZAGRO show\, 10th-13th of April 2017\, will
  take place at the SAFEX Exhibition Park in Algiers\, Algeria.</p>\n\n<p>T
 he leading tradeshow in Algeria\, DJAZAGRO\, is an unmissable annual event
  if you want to make business in North Africa. The show is specialized in 
 five different industries: Process &amp\; Conditioning\, Bakery - Pastry\,
  Food products and beverages\, Ingredients\, Food service.</p>\n\n<p>For m
 ore information <a href=\"https://en.djazagro.com/\" target=\"_blank\">cli
 ck here</a></p>\n\, coesia_editor_manager
X-MICROSOFT-CDO-ALLDAYEVENT:TRUE
DTSTAMP:20260424T103728Z
END:VEVENT
END:VCALENDAR