BEGIN:VCALENDAR
VERSION:2.0
PRODID:https://www.coesia.com
X-PUBLISHED-TTL:P1W
BEGIN:VEVENT
UID:69e91105bd954
DTSTART;VALUE=DATE:20170404
SEQUENCE:0
TRANSP:OPAQUE
DTEND;VALUE=DATE:20170407
URL:https://www.coesia.com/en/exhibitions/profood-tech
LOCATION:Chicago\, USA
SUMMARY:ProFood Tech
CLASS:PUBLIC
X-ALT-DESC;FMTTYPE=text/html:<p>FLEXLINK is showcasing their standardized p
 alletizing cell and WLX conveyors at ProFood Tech \, the new biennial even
 t that will present the latest innovations and technologies for all food a
 nd beverage sectors.&nbsp\; Our Standardized Palletizing Cell is the perfe
 ct way to speed up your manufacturing line. Hygienic and 3-A qualified - F
 lexLink's WLX conveyors are perfect for your food safety needs.&nbsp\; Don
 't miss our presentation on the Innovation Stage to hear about the importa
 nce of a hygienic conveyor design.</p>\n\n<p>For more information <a href=
 \"http://www.profoodtech.com/\" target=\"_blank\">click here</a></p>\n\, c
 oesia_editor_manager
X-MICROSOFT-CDO-ALLDAYEVENT:TRUE
DTSTAMP:20260422T201845Z
END:VEVENT
END:VCALENDAR