BEGIN:VCALENDAR
VERSION:2.0
PRODID:https://www.coesia.com
X-PUBLISHED-TTL:P1W
BEGIN:VEVENT
UID:69e9738defa56
DTSTART;VALUE=DATE:20170404
SEQUENCE:0
TRANSP:OPAQUE
DTEND;VALUE=DATE:20170408
URL:https://www.coesia.com/en/exhibitions/index
LOCATION:Geneva\, Switzerland
SUMMARY:Index
CLASS:PUBLIC
X-ALT-DESC;FMTTYPE=text/html:<p>GDM will participate to Index 2017\, the ma
 in global meeting place for the nonwovens market\, taking place in Geneva 
 from April 4th to 7th 2017.</p>\n\n<p>GDM is a worldwide leader in the Hyg
 iene Disposable Industry\, committed to providing innovative converting an
 d packaging solutions for the manufacturing of baby diapers\, training pan
 ts\, adult incontinence briefs and lady sanitary napkins.</p>\n\n<p>GDM de
 signs its products portfolio focusing on Performance\, Flexibility\, Scala
 bility and Innovation\, serving overall equipment effectiveness increase\,
  impact minimization of size change activities and future evolution capabi
 lities of production capacity and product development\,&nbsp\; with custom
 ers’ needs in mind.</p>\n\n<p>At Index 2017\, GDM will promote its exten
 ded range of advanced process solutions\, particularly focusing on discret
 e material application and gentle material handling.</p>\n\n<p>For more in
 formation <a href=\"http://www.index17.org/en/\" target=\"_blank\">click h
 ere</a></p>\n\, coesia_editor_manager
X-MICROSOFT-CDO-ALLDAYEVENT:TRUE
DTSTAMP:20260423T031909Z
END:VEVENT
END:VCALENDAR