BEGIN:VCALENDAR
VERSION:2.0
PRODID:https://www.coesia.com
X-PUBLISHED-TTL:P1W
BEGIN:VEVENT
UID:69e9807438c25
DTSTART;VALUE=DATE:20170403
SEQUENCE:0
TRANSP:OPAQUE
DTEND;VALUE=DATE:20170407
URL:https://www.coesia.com/en/exhibitions/automate
LOCATION:Chicago\, USA
SUMMARY:AUTOMATE
CLASS:PUBLIC
X-ALT-DESC;FMTTYPE=text/html:<p>Smart Factory Automation is a growing neces
 sity - with FlexLink on the front line we can help with all of your innova
 tive automation needs. Stop by our booth to learn about the newest innovat
 ions being executed by FlexLink.</p>\n\n<p>For more information <a href=\"
 http://www.automateshow.com/\" target=\"_blank\">click here</a></p>\n\, co
 esia_editor_manager
X-MICROSOFT-CDO-ALLDAYEVENT:TRUE
DTSTAMP:20260423T041412Z
END:VEVENT
END:VCALENDAR