BEGIN:VCALENDAR
VERSION:2.0
PRODID:https://www.coesia.com
X-PUBLISHED-TTL:P1W
BEGIN:VEVENT
UID:69ea69e9f2fb2
DTSTART;VALUE=DATE:20180925
SEQUENCE:0
TRANSP:OPAQUE
DTEND;VALUE=DATE:20180928
URL:https://www.coesia.com/en/exhibitions/fachpack-3
LOCATION:Nuremberg\, Germany
SUMMARY:FachPack
CLASS:PUBLIC
X-ALT-DESC;FMTTYPE=text/html:<p>FlexLink and Volpak will be present at Fach
 Pack. For more information <a href=\"https://www.fachpack.de/en\">click he
 re.</a></p>\n\, coesia_editor_manager
X-MICROSOFT-CDO-ALLDAYEVENT:TRUE
DTSTAMP:20260423T205018Z
END:VEVENT
END:VCALENDAR