BEGIN:VCALENDAR
VERSION:2.0
PRODID:https://www.coesia.com
X-PUBLISHED-TTL:P1W
BEGIN:VEVENT
UID:69ea69e958445
DTSTART;VALUE=DATE:20180926
SEQUENCE:0
TRANSP:OPAQUE
DTEND;VALUE=DATE:20180930
URL:https://www.coesia.com/en/exhibitions/vision-expo
LOCATION:Las Vegas\, United States
SUMMARY:Vision Expo
CLASS:PUBLIC
X-ALT-DESC;FMTTYPE=text/html:<p>FlexLink will be present at Vision Expo. Fo
 r more information <a href=\"http://west.visionexpo.com/\">click here. </a
 ></p>\n\, coesia_editor_manager
X-MICROSOFT-CDO-ALLDAYEVENT:TRUE
DTSTAMP:20260423T205017Z
END:VEVENT
END:VCALENDAR