BEGIN:VCALENDAR
VERSION:2.0
PRODID:https://www.coesia.com
X-PUBLISHED-TTL:P1W
BEGIN:VEVENT
UID:69ea6a435a7d7
DTSTART;VALUE=DATE:20180911
SEQUENCE:0
TRANSP:OPAQUE
DTEND;VALUE=DATE:20180914
URL:https://www.coesia.com/en/exhibitions/the-battery-show-north-america
LOCATION:Novi\, United States
SUMMARY:The Battery Show North America
CLASS:PUBLIC
X-ALT-DESC;FMTTYPE=text/html:<p>FlexLink will be present at The Battery Sho
 w America. For more information <a href=\"https://thebatteryshow.com/\">cl
 ick here.</a></p>\n\, coesia_editor_manager
X-MICROSOFT-CDO-ALLDAYEVENT:TRUE
DTSTAMP:20260423T205147Z
END:VEVENT
END:VCALENDAR