BEGIN:VCALENDAR
VERSION:2.0
PRODID:https://www.coesia.com
X-PUBLISHED-TTL:P1W
BEGIN:VEVENT
UID:69ea6a3e46f6f
DTSTART;VALUE=DATE:20180904
SEQUENCE:0
TRANSP:OPAQUE
DTEND;VALUE=DATE:20180907
URL:https://www.coesia.com/en/exhibitions/food-and-drink-tech
LOCATION:Johannesburg\, South Africa
SUMMARY:Food and Drink Tech
CLASS:PUBLIC
X-ALT-DESC;FMTTYPE=text/html:<p>FlexLink will be present at Food and Drink 
 Tech. For more information <a href=\"http://fdt-africa.com/\">click here.<
 /a></p>\n\, coesia_editor_manager
X-MICROSOFT-CDO-ALLDAYEVENT:TRUE
DTSTAMP:20260423T205142Z
END:VEVENT
END:VCALENDAR