BEGIN:VCALENDAR
VERSION:2.0
PRODID:https://www.coesia.com
X-PUBLISHED-TTL:P1W
BEGIN:VEVENT
UID:69ea6a96b875c
DTSTART;VALUE=DATE:20180626
SEQUENCE:0
TRANSP:OPAQUE
DTEND;VALUE=DATE:20180630
URL:https://www.coesia.com/en/exhibitions/rosupack
LOCATION:Moscow\, Russia
SUMMARY:RosUpack
CLASS:PUBLIC
X-ALT-DESC;FMTTYPE=text/html:<p>Emmeci will be present at RosUpack. For mor
 e information <a href=\"https://www.rosupack.com/en-GB\">click here</a>.</
 p>\n\, coesia_editor_manager
X-MICROSOFT-CDO-ALLDAYEVENT:TRUE
DTSTAMP:20260423T205310Z
END:VEVENT
END:VCALENDAR