BEGIN:VCALENDAR
VERSION:2.0
PRODID:https://www.coesia.com
X-PUBLISHED-TTL:P1W
BEGIN:VEVENT
UID:69ea6ae9600b8
DTSTART;VALUE=DATE:20180624
SEQUENCE:0
TRANSP:OPAQUE
DTEND;VALUE=DATE:20180628
URL:https://www.coesia.com/en/exhibitions/agrofood
LOCATION:Tehran\, Iran
SUMMARY:Agrofood
CLASS:PUBLIC
X-ALT-DESC;FMTTYPE=text/html:<p>Ipi will be present at Agrofood. For more i
 nformation <a href=\"https://www.exhibitionstand.contractors/en/news/9/IRA
 N-AGRO-FOOD-2018\">click here.</a></p>\n\, coesia_editor_manager
X-MICROSOFT-CDO-ALLDAYEVENT:TRUE
DTSTAMP:20260423T205433Z
END:VEVENT
END:VCALENDAR