BEGIN:VCALENDAR
VERSION:2.0
PRODID:https://www.coesia.com
X-PUBLISHED-TTL:P1W
BEGIN:VEVENT
UID:69ea69b83c0ea
DTSTART;VALUE=DATE:20180613
SEQUENCE:0
TRANSP:OPAQUE
DTEND;VALUE=DATE:20180617
URL:https://www.coesia.com/en/exhibitions/propak-asia-3
LOCATION:Bangkok\, Thailand
SUMMARY:ProPak Asia
CLASS:PUBLIC
X-ALT-DESC;FMTTYPE=text/html:<p>FlexLink and Norden will be present at ProP
 ak Asia. For more information <a href=\"http://www.propakasia.com/ppka/201
 8/en/index.asp\">click here</a>.</p>\n\, coesia_editor_manager
X-MICROSOFT-CDO-ALLDAYEVENT:TRUE
DTSTAMP:20260423T204928Z
END:VEVENT
END:VCALENDAR