BEGIN:VCALENDAR
VERSION:2.0
PRODID:https://www.coesia.com
X-PUBLISHED-TTL:P1W
BEGIN:VEVENT
UID:69ea6a42b981b
DTSTART;VALUE=DATE:20180611
SEQUENCE:0
TRANSP:OPAQUE
DTEND;VALUE=DATE:20180616
URL:https://www.coesia.com/en/exhibitions/achema
LOCATION:Frankfurt\, Germany
SUMMARY:Achema
CLASS:PUBLIC
X-ALT-DESC;FMTTYPE=text/html:<p><strong>Coesia Group at Achema</strong><br 
 />\nThe Coesia Group companies GF\, FlexLink\, Hapa and Norden will take p
 art in Achema 2018\, the world forum for chemical engineering\, process en
 gineering and biotechnology\, taking place in Frankfurt from 11th to 15th 
 June.&nbsp\;<br />\nPay us a visit - You will find us in Hall 3.1\, Booth 
 E71.</p>\n\n<p><strong>GF</strong><br />\nGF is pleased to present the New
  Generation A&amp\;V NG inspection machine\, developed to process ampoules
 \, vials\, cartridges\, and syringes filled with injectable solutions. The
  machine is fast (up to 600pcs/min)\, versatile\, compact\, modular and un
 ique.&nbsp\;<br />\nThe A&amp\;V NG inspection machine is designed to comb
 ine syringes with other containers\, a multipurpose solution that is ready
  to satisfy all customers' needs within the area.<br />\nWith the easy and
  fast format change\, user-friendly maintenance programs and\, turnkey ope
 nable electrical cabinets\, you get maximum accessibility\, a small footpr
 int and reduced costs. These are just a few of the benefits of this innova
 tive machine.</p>\n\n<p><strong>FlexLink</strong><br />\nFlexLink will pre
 sent one of their many automation solutions\, the small product handling s
 ystem X45\, with an elevating wedge. The conveyor system is suited for sma
 ller bottle handling\, ampules\, and vials.&nbsp\;<br />\nJust like other 
 FlexLink platforms\, X45 is standardized and modular with the possibility 
 of several configurations such as different chains and handling functions.
  Products are handled gently and can be carried directly on the chain or o
 n customized pucks. In addition to other features\, the X45 can run with m
 otors with embedded intelligence\, enabling increased line autonomy by two
 -way communication between the motors as well as function units. This give
 s you a responsive solution that reduces your energy consumption that you 
 configure by easy parameter setting.</p>\n\n<p><strong>Hapa</strong>&nbsp\
 ;<br />\nColorful and digital - Bring splashes of color to the pharmaceuti
 cal market with BlisterJet CMYK.&nbsp\;<br />\nFrom inline printing to lat
 e stage customization\, Hapa systems deliver the best results for every pr
 oduction process. The BlisterJet CMYK is fully digitalized and a true late
 -stage customization specialist\, which serves as the worldwide references
  when it comes to the four-color printing of graphics and text on prefabri
 cated blister packaging. Fully ready for Industry 4.0\, the Web 4.0 is des
 igned for high-resolution printing on web materials. This flexible team pl
 ayer can easily be integrated into existing packaging lines and integrates
  seamlessly into the digital workflow.&nbsp\;<br />\nIts modular concept i
 s based on standard components that can easily be combined according to re
 quirements. Thanks to the integrated digital printing module \"redcube plu
 s\"\, the system can be expanded from one to up to six spot colors or WCMY
 K plus lacquer\, allowing it to be adapted to changing production requirem
 ents.&nbsp\;</p>\n\n<p><strong>Norden</strong><br />\nAt Achema\, Norden w
 ill have their World Premiere of The NC300 Cartoner. It is the new champio
 n of flexibility\, simplicity and efficiency\, designed for the most deman
 ding production environments. NC300 can handle all kinds of pre-folded car
 tons and is able to process a range of larger sizes as well as different c
 arton designs\, which is a unique feature on the market.&nbsp\;&nbsp\;<br 
 />\nNorden is demonstrating the IoT solution\, which is harvesting key val
 ues and production data from the Norden machine or line. The values are pr
 esented in a user friendly manner in an app on a tablet or a PC. Other key
  features are assisted fault finding\, trends of key values\, assisted cha
 ngeover and lost tree alarm analysis. This system will give customers a qu
 ick and easy overview how machines and lines are performing without the ne
 ed of physical access to the actual machine itself. Several machines or li
 nes can be monitored at once regardless of geographical location.</p>\n\n<
 p>Our company teams are waiting for you\, join us at <a href=\"https://www
 .achema.de/en.html\"><strong>Achema</strong></a> in Hall 3.1\, Booth E71</
 p>\n\, coesia_editor_manager
X-MICROSOFT-CDO-ALLDAYEVENT:TRUE
DTSTAMP:20260423T205146Z
END:VEVENT
END:VCALENDAR